View In:
ArcGIS JavaScript
ArcGIS Online Map Viewer
ArcGIS Earth
ArcMap
ArcGIS Pro
View Footprint In:
ArcGIS Online Map Viewer
Service Description:
Map Name: BahrainBasemap
Legend
All Layers and Tables
Layers:
Description:
Copyright Text:
Spatial Reference:
20439
(20439)
Single Fused Map Cache: true
Tile Info:
- Height: 256
- Width: 256
- DPI: 96
-
Levels of Detail: 19
-
Level ID: 0
[ Start Tile, End Tile ]
- Resolution: 78111.61237240172
- Scale: 2.95224991643723E8
-
Level ID: 1
[ Start Tile, End Tile ]
- Resolution: 39055.80618620086
- Scale: 1.476124958218615E8
-
Level ID: 2
[ Start Tile, End Tile ]
- Resolution: 19527.90309310043
- Scale: 7.380624791093075E7
-
Level ID: 3
[ Start Tile, End Tile ]
- Resolution: 9763.951546550215
- Scale: 3.690312395546538E7
-
Level ID: 4
[ Start Tile, End Tile ]
- Resolution: 4881.975773275108
- Scale: 1.845156197773269E7
-
Level ID: 5
[ Start Tile, End Tile ]
- Resolution: 2440.987886637554
- Scale: 9225780.988866344
-
Level ID: 6
[ Start Tile, End Tile ]
- Resolution: 1220.493943318777
- Scale: 4612890.494433172
-
Level ID: 7
[ Start Tile, End Tile ]
- Resolution: 610.2469716593885
- Scale: 2306445.247216586
-
Level ID: 8
[ Start Tile, End Tile ]
- Resolution: 305.12348582969423
- Scale: 1153222.623608293
-
Level ID: 9
[ Start Tile, End Tile ]
- Resolution: 152.56174291484712
- Scale: 576611.3118041465
-
Level ID: 10
[ Start Tile, End Tile ]
- Resolution: 76.28087145742356
- Scale: 288305.65590207325
-
Level ID: 11
[ Start Tile, End Tile ]
- Resolution: 38.14043572871178
- Scale: 144152.82795103663
-
Level ID: 12
[ Start Tile, End Tile ]
- Resolution: 19.07021786435589
- Scale: 72076.41397551831
-
Level ID: 13
[ Start Tile, End Tile ]
- Resolution: 9.535108932177945
- Scale: 36038.20698775916
-
Level ID: 14
[ Start Tile, End Tile ]
- Resolution: 4.767554466088972
- Scale: 18019.10349387958
-
Level ID: 15
[ Start Tile, End Tile ]
- Resolution: 2.383777233044486
- Scale: 9009.55174693979
-
Level ID: 16
[ Start Tile, End Tile ]
- Resolution: 1.191888616522243
- Scale: 4504.775873469895
-
Level ID: 17
[ Start Tile, End Tile ]
- Resolution: 0.5959443082611215
- Scale: 2252.3879367349473
-
Level ID: 18
[ Start Tile, End Tile ]
- Resolution: 0.2979721541305608
- Scale: 1126.1939683674736
- Format: PNG
- Compression Quality: 0.0
- Origin: X: -9498286.38366742
Y: 9998286.38366742
- Spatial Reference: 20439
(20439)
Initial Extent:
XMin: 411322.9480500496
YMin: 2824411.84389
XMax: 508544.73224995076
YMax: 2912302.0729099996
Spatial Reference: 20439
(20439)
Full Extent:
XMin: 437629.0932
YMin: 2828406.8543
XMax: 482238.5871000001
YMax: 2908307.0625
Spatial Reference: 20439
(20439)
Units: esriMeters
Supported Image Format Types: PNG32,PNG24,PNG,JPG,DIB,TIFF,EMF,PS,PDF,GIF,SVG,SVGZ,BMP
Document Info:
Title: Map1
Author:
Comments:
Subject:
Category:
Keywords: BahrainBasemap
AntialiasingMode: None
TextAntialiasingMode: Force
Supports Dynamic Layers: false
MaxRecordCount: 2000
MaxImageHeight: 4096
MaxImageWidth: 4096
Supported Query Formats: JSON, geoJSON, PBF
Supports Query Data Elements: true
Min Scale: 576611.3118041465
Max Scale: 9009.55174693979
Min LOD: 9
Max LOD: 15
Supports Datum Transformation: true
Child Resources:
Info
Supported Operations:
Export Map
Return Updates