{
 "currentVersion": 10.9,
 "cimVersion": "2.7.0",
 "serviceDescription": "",
 "mapName": "BahrainBasemap",
 "description": "",
 "copyrightText": "",
 "supportsDynamicLayers": false,
 "layers": [
  {
   "id": 0,
   "name": "BahrainGovernorates",
   "parentLayerId": -1,
   "defaultVisibility": true,
   "subLayerIds": null,
   "minScale": 0,
   "maxScale": 0,
   "type": "Feature Layer",
   "geometryType": "esriGeometryPolygon",
   "supportsDynamicLegends": true
  }
 ],
 "tables": [],
 "spatialReference": {
  "wkid": 20439,
  "latestWkid": 20439,
  "xyTolerance": 0.001,
  "zTolerance": 0.001,
  "mTolerance": 0.001,
  "falseX": -5121200,
  "falseY": -9998400,
  "xyUnits": 10000,
  "falseZ": -100000,
  "zUnits": 10000,
  "falseM": -100000,
  "mUnits": 10000
 },
 "singleFusedMapCache": true,
 "tileInfo": {
  "rows": 256,
  "cols": 256,
  "dpi": 96,
  "format": "PNG",
  "compressionQuality": 0,
  "origin": {
   "x": -9498286.38366742,
   "y": 9998286.38366742
  },
  "spatialReference": {
   "wkid": 20439,
   "latestWkid": 20439,
   "xyTolerance": 0.001,
   "zTolerance": 0.001,
   "mTolerance": 0.001,
   "falseX": -5121200,
   "falseY": -9998400,
   "xyUnits": 10000,
   "falseZ": -100000,
   "zUnits": 10000,
   "falseM": -100000,
   "mUnits": 10000
  },
  "lods": [
   {
    "level": 0,
    "resolution": 78111.61237240172,
    "scale": 2.95224991643723E8
   },
   {
    "level": 1,
    "resolution": 39055.80618620086,
    "scale": 1.476124958218615E8
   },
   {
    "level": 2,
    "resolution": 19527.90309310043,
    "scale": 7.380624791093075E7
   },
   {
    "level": 3,
    "resolution": 9763.951546550215,
    "scale": 3.690312395546538E7
   },
   {
    "level": 4,
    "resolution": 4881.975773275108,
    "scale": 1.845156197773269E7
   },
   {
    "level": 5,
    "resolution": 2440.987886637554,
    "scale": 9225780.988866344
   },
   {
    "level": 6,
    "resolution": 1220.493943318777,
    "scale": 4612890.494433172
   },
   {
    "level": 7,
    "resolution": 610.2469716593885,
    "scale": 2306445.247216586
   },
   {
    "level": 8,
    "resolution": 305.12348582969423,
    "scale": 1153222.623608293
   },
   {
    "level": 9,
    "resolution": 152.56174291484712,
    "scale": 576611.3118041465
   },
   {
    "level": 10,
    "resolution": 76.28087145742356,
    "scale": 288305.65590207325
   },
   {
    "level": 11,
    "resolution": 38.14043572871178,
    "scale": 144152.82795103663
   },
   {
    "level": 12,
    "resolution": 19.07021786435589,
    "scale": 72076.41397551831
   },
   {
    "level": 13,
    "resolution": 9.535108932177945,
    "scale": 36038.20698775916
   },
   {
    "level": 14,
    "resolution": 4.767554466088972,
    "scale": 18019.10349387958
   },
   {
    "level": 15,
    "resolution": 2.383777233044486,
    "scale": 9009.55174693979
   },
   {
    "level": 16,
    "resolution": 1.191888616522243,
    "scale": 4504.775873469895
   },
   {
    "level": 17,
    "resolution": 0.5959443082611215,
    "scale": 2252.3879367349473
   },
   {
    "level": 18,
    "resolution": 0.2979721541305608,
    "scale": 1126.1939683674736
   }
  ]
 },
 "initialExtent": {
  "xmin": 411322.9480500496,
  "ymin": 2824411.84389,
  "xmax": 508544.73224995076,
  "ymax": 2912302.0729099996,
  "spatialReference": {
   "wkid": 20439,
   "latestWkid": 20439,
   "xyTolerance": 0.001,
   "zTolerance": 0.001,
   "mTolerance": 0.001,
   "falseX": -5121200,
   "falseY": -9998400,
   "xyUnits": 10000,
   "falseZ": -100000,
   "zUnits": 10000,
   "falseM": -100000,
   "mUnits": 10000
  }
 },
 "fullExtent": {
  "xmin": 437629.0932,
  "ymin": 2828406.8543,
  "xmax": 482238.5871000001,
  "ymax": 2908307.0625,
  "spatialReference": {
   "wkid": 20439,
   "latestWkid": 20439,
   "xyTolerance": 0.001,
   "zTolerance": 0.001,
   "mTolerance": 0.001,
   "falseX": -5121200,
   "falseY": -9998400,
   "xyUnits": 10000,
   "falseZ": -100000,
   "zUnits": 10000,
   "falseM": -100000,
   "mUnits": 10000
  }
 },
 "minScale": 576611.3118041465,
 "maxScale": 9009.55174693979,
 "minLOD": 9,
 "maxLOD": 15,
 "units": "esriMeters",
 "supportedImageFormatTypes": "PNG32,PNG24,PNG,JPG,DIB,TIFF,EMF,PS,PDF,GIF,SVG,SVGZ,BMP",
 "documentInfo": {
  "Title": "Map1",
  "Author": "",
  "Comments": "",
  "Subject": "",
  "Category": "",
  "AntialiasingMode": "None",
  "TextAntialiasingMode": "Force",
  "Version": "2.9.0",
  "Keywords": "BahrainBasemap"
 },
 "capabilities": "Map",
 "supportedQueryFormats": "JSON, geoJSON, PBF",
 "exportTilesAllowed": false,
 "referenceScale": 0.0,
 "datumTransformations": [
  {
   "geoTransforms": [
    {
     "wkid": 9383,
     "latestWkid": 9383,
     "transformForward": false,
     "name": "KSA-GRF17_To_WGS_1984_1"
    },
    {
     "wkid": 9362,
     "latestWkid": 9362,
     "transformForward": false,
     "name": "Ain_el_Abd_To_KSA-GRF17_1"
    }
   ]
  },
  {
   "geoTransforms": [
    {
     "wkid": 9362,
     "latestWkid": 9362,
     "transformForward": true,
     "name": "Ain_el_Abd_To_KSA-GRF17_1"
    },
    {
     "wkid": 9383,
     "latestWkid": 9383,
     "transformForward": true,
     "name": "KSA-GRF17_To_WGS_1984_1"
    }
   ]
  }
 ],
 "supportsDatumTransformation": true,
 "archivingInfo": {
  "supportsHistoricMoment": false
 },
 "supportsClipping": true,
 "supportsSpatialFilter": true,
 "supportsTimeRelation": true,
 "supportsQueryDataElements": true,
 "maxRecordCount": 2000,
 "maxImageHeight": 4096,
 "maxImageWidth": 4096,
 "supportedExtensions": ""
}
